Workbook
Name BASE_YEAR: Inputs!$D$5
Name COUNCIL_NAME: Inputs!$B$1
Name LEI_1: Inputs!$E$14
Name LEI_2: Inputs!$F$14
Name LEI_3: Inputs!$G$14
Name LEI_4: Inputs!$H$14
Name N1_C1: Demands!$B$6
Name N1_C2: Demands!$B$7
Name N1_C3: Demands!$B$8
Name N1_C4: Demands!$B$9
Name N1_C5: Demands!$B$10
Name N1_C6: Demands!$B$11
Name N1_C7: Demands!$B$12
Name N1_C8: Demands!$B$13
Name N1_CF_COST: 'Water Supply - Future'!$V$9:$V$22
Name N1_CF_TIMING: 'Water Supply - Future'!$H$9:$H$22
Name N2_C1: Demands!$B$31
Name N2_C2: Demands!$B$32
Name N2_C3: Demands!$B$33
Name N2_C4: Demands!$B$34
Name N2_C5: Demands!$B$35
Name N2_C6: Demands!$B$36
Name N2_CF_COST: 'Sewerage - Future'!$V$9:$V$28
Name N2_CF_TIMING: 'Sewerage - Future'!$H$9:$H$28
Name N3_C1: Demands!$B$52
Name N3_C2: Demands!$B$53
Name N3_C3: Demands!$B$54
Name N3_C4: Demands!$B$55
Name N3_C5: Demands!$B$56
Name N3_C6: Demands!$B$57
Name N3_C7: Demands!$B$58
Name N3_C8: Demands!$B$59
Name N3_CF_COST: 'Transport - Future'!$W$9:$W$53
Name N3_CF_TIMING: 'Transport - Future'!$I$9:$I$53
Name N4_C1: Demands!$B$77
Name N4_C2: Demands!$B$78
Name N4_C3: Demands!$B$79
Name N4_C4: Demands!$B$80
Name N4_C5: Demands!$B$81
Name N4_C6: Demands!$B$82
Name N4_C7: Demands!$B$83
Name N4_C8: Demands!$B$84
Name N4_CF_COST: 'PPCL - Future'!$W$9:$W$15
Name N4_CF_TIMING: 'PPCL - Future'!$I$9:$I$15
Name NETWORK_1: Inputs!$E$4
Name NETWORK_2: Inputs!$F$4
Name NETWORK_3: Inputs!$G$4
Name NETWORK_4: Inputs!$H$4
Name P_HORIZON_1: Inputs!$E$6
Name P_HORIZON_2: Inputs!$F$6
Name P_HORIZON_3: Inputs!$G$6
Name P_HORIZON_4: Inputs!$H$6
Name P_HORIZON_LOOKUP: Demands!$AE$102:$AF$191
Name PPI_3Y: Inputs!$D$16
Name PROJECT_NAME: Inputs!$B$2
Name REVENUE_NON_RES: 'Anticipated Gwth - Non Res'!$E$122:$AA$123
Name REVENUE_RES: 'Anticipated Gwth - Res'!$E$84:$AA$85
Name RWACC_1: Inputs!$E$10
Name RWACC_2: Inputs!$F$10
Name RWACC_3: Inputs!$G$10

Sheet Navigation
B2: Inputs | E2: Outputs
B4: General Model Inputs | C4: • Financial inputs • Other generic inputs | E4: Cashflow Projection | F4: • Summary of forecast expenditure and anticipated charges revenues
B6: Demands | C6: • Estimates of current and future demand per network catchment | E6: Summary Cost Schedule | F6: • Demand and cost allocation by catchment • Infrastructure costs by catchment
B8: Unit Rates | C8: • Unit cost of asset works • Unit cost of land
B10: Anticipated Residential Growth | C10: • Estimates of anticipated dwelling growth and infrastructure charges by LGIP projection area
B12: Anticipated Non-residential Growth | C12: • Estimates of anticipated non-residential GFA growth and infrastructure charges by LGIP projection area
B15: Asset Inputs
B17: =NETWORK_1&" Network - Existing" -> Water Supply Network - Existing | C17: ="• Current asset valuation and catchments served in existing "&NETWORK_1&" network" -> • Current asset valuation and catchments served in existing Water Supply network | E17: =NETWORK_1&" Network - Future" -> Water Supply Network - Future | F17: ="• Proposed asset valuation and catchments served in future "&NETWORK_1&" network" -> • Proposed asset valuation and catchments served in future Water Supply network
B19: =NETWORK_2&" Network - Existing" -> Sewerage Network - Existing | C19: ="• Current asset valuation and catchments served in existing "&NETWORK_2&" network" -> • Current asset valuation and catchments served in existing Sewerage network | E19: =NETWORK_2&" Network - Future" -> Sewerage Network - Future | F19: ="• Proposed asset valuation and catchments served in future "&NETWORK_2&" network" -> • Proposed asset valuation and catchments served in future Sewerage network
B21: =NETWORK_3&" Network - Existing" -> Transport Network - Existing | C21: ="• Current asset valuation and catchments served in existing "&NETWORK_3&" network" -> • Current asset valuation and catchments served in existing Transport network | E21: =NETWORK_3&" Network - Future" -> Transport Network - Future | F21: ="• Proposed asset valuation and catchments served in future "&NETWORK_3&" network" -> • Proposed asset valuation and catchments served in future Transport network
B23: =NETWORK_4&" Network - Existing" -> Parks and Land for Community Facilities Network - Existing | C23: ="• Current asset valuation and catchments served in existing "&NETWORK_4&" network" -> • Current asset valuation and catchments served in existing Parks and Land for Community Facilities network | E23: =NETWORK_4&" Network - Future" -> Parks and Land for Community Facilities Network - Future | F23: ="• Proposed asset valuation and catchments served in future "&NETWORK_4&" network" -> • Proposed asset valuation and catchments served in future Parks and Land for Community Facilities network

Sheet Inputs
B1: Isaac Regional Council | H1: Return to Navigation
B2: Local Government Infrastructure Plan
B4: Financial Modelling Assumptions | D4: Model-wide | E4: Water Supply | F4: Sewerage | G4: Transport | H4: Parks and Land for Community Facilities | I4: Comments
B5: Model Setup | C5: Base Year of Model | D5: 2024 | E5: =IF(BASE_YEAR="","",BASE_YEAR) -> 2024 | F5: =IF(BASE_YEAR="","",BASE_YEAR) -> 2024 | G5: =IF(BASE_YEAR="","",BASE_YEAR) -> 2024 | H5: =IF(BASE_YEAR="","",BASE_YEAR) -> 2024 | I5: 30th June of Base Year
C6: Infrastructure Planning Horizon | E6: 17 | F6: 17 | G6: 17 | H6: 17 | I6: Based on an Infrastructure Planning Horizon to 2041
C7: Demand Unit (Unit of Measure) | E7: EP | F7: EP | G7: Trips | H7: Persons | I7: Demand Measure of Infrastructure Charge
B8: Financial Inputs | C8: Discount Rates
C9: Post-tax Nominal WACC to be applied to Expenses (WACC) | E9: 0.059631035 | F9: 0.059631035 | G9: 0.059631035 | H9: 0.059631035 | I9: Based on 5y average of the 10 year bond rate (@30/6/24) + margin of 3.5%
C10: Real Post-tax Nominal WACC to be applied to Revenues (RWACC) | E10: =IF(WACC_1="","",((1+E9)/(1+E15))-1) -> 0.029922876 | F10: =IF(WACC_2="","",((1+F9)/(1+F15))-1) -> 0.029922876 | G10: =IF(WACC_3="","",((1+G9)/(1+G15))-1) -> 0.029922876 | H10: =IF(WACC_4="","",((1+H9)/(1+H15))-1) -> 0.029922876
C11: Average WACC to be applied in Cashflow NPV Assessment | D11: =IFERROR(AVERAGE(E9:H9),"") -> 0.059631035
C12: Escalations
C13: Works Escalation Rate (for discounting purposes) | E13: 0.028050204 | F13: 0.028050204 | G13: 0.028050204 | H13: 0.028050204 | I13: 10y average of PPI Index (RBC) (@30/6/24)
C14: Land Escalation Rate (for discounting purposes) | E14: 0.028845033 | F14: 0.028845033 | G14: 0.028845033 | H14: 0.028845033 | I14: 10y average of CPI Index (@30/6/24)
C15: Modelled Charge Inflation Rate | E15: 0.028845033 | F15: 0.028845033 | G15: 0.028845033 | H15: 0.028845033 | I15: 10y average of CPI Index (@30/6/24)
C16: Levied Charge Inflation Rate | D16: 0.025 | I16: Mid-Point of RBA Target Inflation Rate (2-3%)
B18: Note: Grey cells throughout the SoW model are formula driven and should only be over-ridden where the formula is not relevant - e.g. a specific/project cost needs to be entered rather than a unit rate lookup

Sheet Demands
B1: =COUNCIL_NAME -> Isaac Regional Council | H1: Return to Navigation | AE1: Row #
B2: =PROJECT_NAME -> Local Government Infrastructure Plan | AE2: =ROW() -> 2
AE3: =ROW() -> 3
B4: =NETWORK_1 -> Water Supply | C4: Catchment Demand (Cumulative Totals) | AE4: =ROW() -> 4
B5: Catchment Name | C5: =BASE_YEAR -> 2024 | D5: =C5+1 -> 2025 | E5: =D5+1 -> 2026 | F5: =E5+1 -> 2027 | G5: =F5+1 -> 2028 | H5: =G5+1 -> 2029 | I5: =H5+1 -> 2030 | J5: =I5+1 -> 2031 | K5: =J5+1 -> 2032 | ... Y5: =X5+1 -> 2046 | AE5: =ROW() -> 5
B6: WS01 - Clermont | C6: 5948.2537 | D6: =(E6-C6)/2+C6 -> 5951.1302 | E6: 5954.0067 | F6: =($J6-$E6)/5+E6 -> 5958.4049 | G6: =($J6-$E6)/5+F6 -> 5962.803 | H6: =($J6-$E6)/5+G6 -> 5967.2012 | I6: =($J6-$E6)/5+H6 -> 5971.5994 | J6: 5975.9976 | K6: =($O6-$J6)/5+J6 -> 5977.0265 | L6: =($O6-$J6)/5+K6 -> 5978.0555 | M6: =($O6-$J6)/5+L6 -> 5979.0844 | N6: =($O6-$J6)/5+M6 -> 5980.1133 | O6: 5981.1423 | P6: =($T6-$O6)/5+O6 -> 6021.2152 | Q6: =($T6-$O6)/5+P6 -> 6061.2882 | R6: =($T6-$O6)/5+Q6 -> 6101.3611 | S6: =($T6-$O6)/5+R6 -> 6141.4341 | T6: 6181.507 | U6: =($Y6-$T6)/5+T6 -> 6220.2803 | V6: =($Y6-$T6)/5+U6 -> 6259.0536 | W6: =($Y6-$T6)/5+V6 -> 6297.8269 | X6: =($Y6-$T6)/5+W6 -> 6336.6002 | Y6: 6375.3735 | AE6: =ROW() -> 6
B7: WS02 - Moranbah | C7: 13597.956 | D7: =(E7-C7)/2+C7 -> 13907.648 | E7: 14217.34 | F7: =($J7-$E7)/5+E7 -> 14394.449 | G7: =($J7-$E7)/5+F7 -> 14571.557 | H7: =($J7-$E7)/5+G7 -> 14748.665 | I7: =($J7-$E7)/5+H7 -> 14925.774 | J7: 15102.882 | K7: =($O7-$J7)/5+J7 -> 15307.571 | L7: =($O7-$J7)/5+K7 -> 15512.26 | M7: =($O7-$J7)/5+L7 -> 15716.948 | N7: =($O7-$J7)/5+M7 -> 15921.637 | O7: 16126.326 | P7: =($T7-$O7)/5+O7 -> 16260.868 | Q7: =($T7-$O7)/5+P7 -> 16395.409 | R7: =($T7-$O7)/5+Q7 -> 16529.951 | S7: =($T7-$O7)/5+R7 -> 16664.492 | T7: 16799.034 | U7: =($Y7-$T7)/5+T7 -> 16926.16 | V7: =($Y7-$T7)/5+U7 -> 17053.286 | W7: =($Y7-$T7)/5+V7 -> 17180.412 | X7: =($Y7-$T7)/5+W7 -> 17307.538 | Y7: 17434.664 | AE7: =ROW() -> 7
B8: WS03 - Dysart | C8: 7024.4571 | D8: =(E8-C8)/2+C8 -> 7058.3237 | E8: 7092.1903 | F8: =($J8-$E8)/5+E8 -> 7100.4614 | G8: =($J8-$E8)/5+F8 -> 7108.7325 | H8: =($J8-$E8)/5+G8 -> 7117.0036 | I8: =($J8-$E8)/5+H8 -> 7125.2746 | J8: 7133.5457 | K8: =($O8-$J8)/5+J8 -> 7141.7751 | L8: =($O8-$J8)/5+K8 -> 7150.0046 | M8: =($O8-$J8)/5+L8 -> 7158.234 | N8: =($O8-$J8)/5+M8 -> 7166.4634 | O8: 7174.6928 | P8: =($T8-$O8)/5+O8 -> 7178.5564 | Q8: =($T8-$O8)/5+P8 -> 7182.42 | R8: =($T8-$O8)/5+Q8 -> 7186.2836 | S8: =($T8-$O8)/5+R8 -> 7190.1472 | T8: 7194.0108 | U8: =($Y8-$T8)/5+T8 -> 7197.7649 | V8: =($Y8-$T8)/5+U8 -> 7201.519 | W8: =($Y8-$T8)/5+V8 -> 7205.2731 | X8: =($Y8-$T8)/5+W8 -> 7209.0272 | Y8: 7212.7813 | AE8: =ROW() -> 8
B9: WS04 - Middlemount | C9: 4733.4301 | D9: =(E9-C9)/2+C9 -> 4749.2335 | E9: 4765.0369 | F9: =($J9-$E9)/5+E9 -> 4768.7871 | G9: =($J9-$E9)/5+F9 -> 4772.5374 | H9: =($J9-$E9)/5+G9 -> 4776.2877 | I9: =($J9-$E9)/5+H9 -> 4780.0379 | J9: 4783.7882 | K9: =($O9-$J9)/5+J9 -> 4787.314 | L9: =($O9-$J9)/5+K9 -> 4790.8397 | M9: =($O9-$J9)/5+L9 -> 4794.3655 | N9: =($O9-$J9)/5+M9 -> 4797.8913 | O9: 4801.417 | P9: =($T9-$O9)/5+O9 -> 4804.8392 | Q9: =($T9-$O9)/5+P9 -> 4808.2613 | R9: =($T9-$O9)/5+Q9 -> 4811.6835 | S9: =($T9-$O9)/5+R9 -> 4815.1056 | T9: 4818.5278 | U9: =($Y9-$T9)/5+T9 -> 4821.8512 | V9: =($Y9-$T9)/5+U9 -> 4825.1746 | W9: =($Y9-$T9)/5+V9 -> 4828.498 | X9: =($Y9-$T9)/5+W9 -> 4831.8214 | Y9: 4835.1448 | AE9: =ROW() -> 9
B10: WS05 - Glenden | C10: 1631.9988 | D10: =(E10-C10)/2+C10 -> 1642.8686 | E10: 1653.7384 | F10: =($J10-$E10)/5+E10 -> 1658.7283 | G10: =($J10-$E10)/5+F10 -> 1663.7181 | H10: =($J10-$E10)/5+G10 -> 1668.708 | I10: =($J10-$E10)/5+H10 -> 1673.6978 | J10: 1678.6877 | K10: =($O10-$J10)/5+J10 -> 1685.9646 | L10: =($O10-$J10)/5+K10 -> 1693.2415 | M10: =($O10-$J10)/5+L10 -> 1700.5184 | N10: =($O10-$J10)/5+M10 -> 1707.7954 | O10: 1715.0723 | P10: =($T10-$O10)/5+O10 -> 1721.7249 | Q10: =($T10-$O10)/5+P10 -> 1728.3775 | R10: =($T10-$O10)/5+Q10 -> 1735.0301 | S10: =($T10-$O10)/5+R10 -> 1741.6827 | T10: 1748.3353 | U10: =($Y10-$T10)/5+T10 -> 1754.8812 | V10: =($Y10-$T10)/5+U10 -> 1761.4272 | W10: =($Y10-$T10)/5+V10 -> 1767.9732 | X10: =($Y10-$T10)/5+W10 -> 1774.5191 | Y10: 1781.0651 | AE10: =ROW() -> 10
B11: WS06 - Nebo | C11: 1078.6323 | D11: =(E11-C11)/2+C11 -> 1120.5643 | E11: 1162.4962 | F11: =($J11-$E11)/5+E11 -> 1189.5711 | G11: =($J11-$E11)/5+F11 -> 1216.6459 | H11: =($J11-$E11)/5+G11 -> 1243.7208 | I11: =($J11-$E11)/5+H11 -> 1270.7956 | J11: 1297.8704 | K11: =($O11-$J11)/5+J11 -> 1329.6408 | L11: =($O11-$J11)/5+K11 -> 1361.4112 | M11: =($O11-$J11)/5+L11 -> 1393.1815 | N11: =($O11-$J11)/5+M11 -> 1424.9519 | O11: 1456.7223 | P11: =($T11-$O11)/5+O11 -> 1458.1782 | Q11: =($T11-$O11)/5+P11 -> 1459.634 | R11: =($T11-$O11)/5+Q11 -> 1461.0899 | S11: =($T11-$O11)/5+R11 -> 1462.5458 | T11: 1464.0017 | U11: =($Y11-$T11)/5+T11 -> 1465.3849 | V11: =($Y11-$T11)/5+U11 -> 1466.7681 | W11: =($Y11-$T11)/5+V11 -> 1468.1513 | X11: =($Y11-$T11)/5+W11 -> 1469.5345 | Y11: 1470.9177 | AE11: =ROW() -> 11
B12: WS07 - Carmila | C12: 156.6922 | D12: =(E12-C12)/2+C12 -> 156.48953 | E12: 156.28685 | F12: =($J12-$E12)/5+E12 -> 156.25016 | G12: =($J12-$E12)/5+F12 -> 156.21346 | H12: =($J12-$E12)/5+G12 -> 156.17676 | I12: =($J12-$E12)/5+H12 -> 156.14006 | J12: 156.10336 | K12: =($O12-$J12)/5+J12 -> 155.96746 | L12: =($O12-$J12)/5+K12 -> 155.83156 | M12: =($O12-$J12)/5+L12 -> 155.69566 | N12: =($O12-$J12)/5+M12 -> 155.55975 | O12: 155.42385 | P12: =($T12-$O12)/5+O12 -> 156.67098 | Q12: =($T12-$O12)/5+P12 -> 157.91811 | R12: =($T12-$O12)/5+Q12 -> 159.16524 | S12: =($T12-$O12)/5+R12 -> 160.41237 | T12: 161.6595 | U12: =($Y12-$T12)/5+T12 -> 162.83578 | V12: =($Y12-$T12)/5+U12 -> 164.01205 | W12: =($Y12-$T12)/5+V12 -> 165.18832 | X12: =($Y12-$T12)/5+W12 -> 166.3646 | Y12: 167.54087
B13: WS08 - St Lawrence | C13: 308.64092 | D13: =(E13-C13)/2+C13 -> 308.30905 | E13: 307.97717 | F13: =($J13-$E13)/5+E13 -> 307.91168 | G13: =($J13-$E13)/5+F13 -> 307.84619 | H13: =($J13-$E13)/5+G13 -> 307.78069 | I13: =($J13-$E13)/5+H13 -> 307.7152 | J13: 307.6497 | K13: =($O13-$J13)/5+J13 -> 307.41172 | L13: =($O13-$J13)/5+K13 -> 307.17373 | M13: =($O13-$J13)/5+L13 -> 306.93574 | N13: =($O13-$J13)/5+M13 -> 306.69776 | O13: 306.45977 | P13: =($T13-$O13)/5+O13 -> 309.25175 | Q13: =($T13-$O13)/5+P13 -> 312.04373 | R13: =($T13-$O13)/5+Q13 -> 314.83571 | S13: =($T13-$O13)/5+R13 -> 317.6277 | T13: 320.41968 | U13: =($Y13-$T13)/5+T13 -> 323.05312 | V13: =($Y13-$T13)/5+U13 -> 325.68656 | W13: =($Y13-$T13)/5+V13 -> 328.32 | X13: =($Y13-$T13)/5+W13 -> 330.95345 | Y13: 333.58689
AE14: =ROW() -> 14
AE15: =ROW() -> 15
B16: =NETWORK_1 -> Water Supply | C16: Catchment Demand (Incremental Growth) | AE16: =ROW() -> 16
B17: Catchment Name | C17: =BASE_YEAR -> 2024 | D17: =C17+1 -> 2025 | E17: =D17+1 -> 2026 | F17: =E17+1 -> 2027 | G17: =F17+1 -> 2028 | H17: =G17+1 -> 2029 | I17: =H17+1 -> 2030 | J17: =I17+1 -> 2031 | K17: =J17+1 -> 2032 | ... Y17: =X17+1 -> 2046 | Z17: Total Demand (Ultimate) | AA17: NPV Future Demand (@ Ultimate) | AB17: NPV Future Demand (@Planning Horizon) | AE17: =ROW() -> 17
B18: =N1_C1 -> WS01 - Clermont | C18: =IF(C6="","",C6) -> 5948.2537 | D18: =IF(D6="","",D6-C6) -> 2.8764972 | E18: =IF(E6="","",E6-D6) -> 2.8764972 | F18: =IF(F6="","",F6-E6) -> 4.3981695 | G18: =IF(G6="","",G6-F6) -> 4.3981695 | H18: =IF(H6="","",H6-G6) -> 4.3981695 | I18: =IF(I6="","",I6-H6) -> 4.3981695 | J18: =IF(J6="","",J6-I6) -> 4.3981695 | K18: =IF(K6="","",K6-J6) -> 1.0289475 | ... Y18: =IF(Y6="","",Y6-X6) -> 38.773307 | Z18: =IF(C18="","",SUM(C18:Y18)) -> 6375.3735 | AA18: =IF(Z18="","",NPV(RWACC_1,D18:Y18)) -> 264.78869 | AB18: =IF(Z18="","",NPV(RWACC_1,INDIRECT("D"&AE18&":"&VLOOKUP(P_HORIZON_1,P_HORIZON_LOOKUP,2,FALSE)&AE18))) -> 157.19514 | AE18: =ROW() -> 18
B19: =N1_C2 -> WS02 - Moranbah | C19: =IF(C7="","",C7) -> 13597.956 | D19: =IF(D7="","",D7-C7) -> 309.69207 | E19: =IF(E7="","",E7-D7) -> 309.69207 | F19: =IF(F7="","",F7-E7) -> 177.10832 | G19: =IF(G7="","",G7-F7) -> 177.10832 | H19: =IF(H7="","",H7-G7) -> 177.10832 | I19: =IF(I7="","",I7-H7) -> 177.10832 | J19: =IF(J7="","",J7-I7) -> 177.10832 | K19: =IF(K7="","",K7-J7) -> 204.68878 | ... Y19: =IF(Y7="","",Y7-X7) -> 127.12601 | Z19: =IF(C19="","",SUM(C19:Y19)) -> 17434.664 | AA19: =IF(Z19="","",NPV(RWACC_1,D19:Y19)) -> 2905.6643 | AB19: =IF(Z19="","",NPV(RWACC_1,INDIRECT("D"&AE19&":"&VLOOKUP(P_HORIZON_1,P_HORIZON_LOOKUP,2,FALSE)&AE19))) -> 2552.8975 | AE19: =ROW() -> 19
B20: =N1_C3 -> WS03 - Dysart | C20: =IF(C8="","",C8) -> 7024.4571 | D20: =IF(D8="","",D8-C8) -> 33.86663 | E20: =IF(E8="","",E8-D8) -> 33.86663 | F20: =IF(F8="","",F8-E8) -> 8.2710763 | G20: =IF(G8="","",G8-F8) -> 8.2710763 | H20: =IF(H8="","",H8-G8) -> 8.2710763 | I20: =IF(I8="","",I8-H8) -> 8.2710763 | J20: =IF(J8="","",J8-I8) -> 8.2710763 | K20: =IF(K8="","",K8-J8) -> 8.2294272 | ... Y20: =IF(Y8="","",Y8-X8) -> 3.7540894 | Z20: =IF(C20="","",SUM(C20:Y20)) -> 7212.7813 | AA20: =IF(Z20="","",NPV(RWACC_1,D20:Y20)) -> 154.0364 | AB20: =IF(Z20="","",NPV(RWACC_1,INDIRECT("D"&AE20&":"&VLOOKUP(P_HORIZON_1,P_HORIZON_LOOKUP,2,FALSE)&AE20))) -> 143.61904 | AE20: =ROW() -> 20
B21: =N1_C4 -> WS04 - Middlemount | C21: =IF(C9="","",C9) -> 4733.4301 | D21: =IF(D9="","",D9-C9) -> 15.803403 | E21: =IF(E9="","",E9-D9) -> 15.803403 | F21: =IF(F9="","",F9-E9) -> 3.7502685 | G21: =IF(G9="","",G9-F9) -> 3.7502685 | H21: =IF(H9="","",H9-G9) -> 3.7502685 | I21: =IF(I9="","",I9-H9) -> 3.7502685 | J21: =IF(J9="","",J9-I9) -> 3.7502685 | K21: =IF(K9="","",K9-J9) -> 3.5257627 | ... Y21: =IF(Y9="","",Y9-X9) -> 3.3233971 | Z21: =IF(C21="","",SUM(C21:Y21)) -> 4835.1448 | AA21: =IF(Z21="","",NPV(RWACC_1,D21:Y21)) -> 79.80351 | AB21: =IF(Z21="","",NPV(RWACC_1,INDIRECT("D"&AE21&":"&VLOOKUP(P_HORIZON_1,P_HORIZON_LOOKUP,2,FALSE)&AE21))) -> 70.581287 | AE21: =ROW() -> 21
B22: =N1_C5 -> WS05 - Glenden | C22: =IF(C10="","",C10) -> 1631.9988 | D22: =IF(D10="","",D10-C10) -> 10.869821 | E22: =IF(E10="","",E10-D10) -> 10.869821 | F22: =IF(F10="","",F10-E10) -> 4.9898555 | G22: =IF(G10="","",G10-F10) -> 4.9898555 | H22: =IF(H10="","",H10-G10) -> 4.9898555 | I22: =IF(I10="","",I10-H10) -> 4.9898555 | J22: =IF(J10="","",J10-I10) -> 4.9898555 | K22: =IF(K10="","",K10-J10) -> 7.2769179 | ... Y22: =IF(Y10="","",Y10-X10) -> 6.5459642 | Z22: =IF(C22="","",SUM(C22:Y22)) -> 1781.0651 | AA22: =IF(Z22="","",NPV(RWACC_1,D22:Y22)) -> 109.02451 | AB22: =IF(Z22="","",NPV(RWACC_1,INDIRECT("D"&AE22&":"&VLOOKUP(P_HORIZON_1,P_HORIZON_LOOKUP,2,FALSE)&AE22))) -> 90.859864 | AE22: =ROW() -> 22
B23: =N1_C6 -> WS06 - Nebo | C23: =IF(C11="","",C11) -> 1078.6323 | D23: =IF(D11="","",D11-C11) -> 41.931978 | E23: =IF(E11="","",E11-D11) -> 41.931978 | F23: =IF(F11="","",F11-E11) -> 27.074843 | G23: =IF(G11="","",G11-F11) -> 27.074843 | H23: =IF(H11="","",H11-G11) -> 27.074843 | I23: =IF(I11="","",I11-H11) -> 27.074843 | J23: =IF(J11="","",J11-I11) -> 27.074843 | K23: =IF(K11="","",K11-J11) -> 31.770367 | ... Y23: =IF(Y11="","",Y11-X11) -> 1.3832042 | Z23: =IF(C23="","",SUM(C23:Y23)) -> 1470.9177 | AA23: =IF(Z23="","",NPV(RWACC_1,D23:Y23)) -> 324.07691 | AB23: =IF(Z23="","",NPV(RWACC_1,INDIRECT("D"&AE23&":"&VLOOKUP(P_HORIZON_1,P_HORIZON_LOOKUP,2,FALSE)&AE23))) -> 320.2386 | AE23: =ROW() -> 23
B24: =N1_C6 -> WS06 - Nebo | C24: =IF(C12="","",C12) -> 156.6922 | D24: =IF(D12="","",D12-C12) -> -0.202673 | E24: =IF(E12="","",E12-D12) -> -0.202673 | F24: =IF(F12="","",F12-E12) -> -0.03669818 | G24: =IF(G12="","",G12-F12) -> -0.03669818 | H24: =IF(H12="","",H12-G12) -> -0.03669818 | I24: =IF(I12="","",I12-H12) -> -0.03669818 | J24: =IF(J12="","",J12-I12) -> -0.03669818 | K24: =IF(K12="","",K12-J12) -> -0.1359025 | ... Y24: =IF(Y12="","",Y12-X12) -> 1.1762738 | Z24: =IF(C24="","",SUM(C24:Y24)) -> 167.54087 | AA24: =IF(Z24="","",NPV(RWACC_1,D24:Y24)) -> 6.2217276 | AB24: =IF(Z24="","",NPV(RWACC_1,INDIRECT("D"&AE24&":"&VLOOKUP(P_HORIZON_1,P_HORIZON_LOOKUP,2,FALSE)&AE24))) -> 2.95764 | AE24: =ROW() -> 24
B25: =N1_C6 -> WS06 - Nebo | C25: =IF(C13="","",C13) -> 308.64092 | D25: =IF(D13="","",D13-C13) -> -0.3318752 | E25: =IF(E13="","",E13-D13) -> -0.3318752 | F25: =IF(F13="","",F13-E13) -> -0.06549384 | G25: =IF(G13="","",G13-F13) -> -0.06549384 | H25: =IF(H13="","",H13-G13) -> -0.06549384 | I25: =IF(I13="","",I13-H13) -> -0.06549384 | J25: =IF(J13="","",J13-I13) -> -0.06549384 | K25: =IF(K13="","",K13-J13) -> -0.237987 | ... Y25: =IF(Y13="","",Y13-X13) -> 2.6334424 | Z25: =IF(C25="","",SUM(C25:Y25)) -> 333.58689 | AA25: =IF(Z25="","",NPV(RWACC_1,D25:Y25)) -> 14.481054 | AB25: =IF(Z25="","",NPV(RWACC_1,INDIRECT("D"&AE25&":"&VLOOKUP(P_HORIZON_1,P_HORIZON_LOOKUP,2,FALSE)&AE25))) -> 7.1734132 | AE25: =ROW() -> 25
AE26: =ROW() -> 26
AE27: =ROW() -> 27
AE28: =ROW() -> 28
B29: =NETWORK_2 -> Sewerage | C29: Catchment Demand (Cumulative Totals) | AE29: =ROW() -> 29
B30: Catchment Name | C30: =BASE_YEAR -> 2024 | D30: =C30+1 -> 2025 | E30: =D30+1 -> 2026 | F30: =E30+1 -> 2027 | G30: =F30+1 -> 2028 | H30: =G30+1 -> 2029 | I30: =H30+1 -> 2030 | J30: =I30+1 -> 2031 | K30: =J30+1 -> 2032 | ... Y30: =X30+1 -> 2046 | AE30: =ROW() -> 30
B31: S01 - Clermont | C31: 5700.297 | D31: =(E31-C31)/2+C31 -> 5703.0571 | E31: 5705.8171 | F31: =($J31-$E31)/5+E31 -> 5710.0684 | G31: =($J31-$E31)/5+F31 -> 5714.3197 | H31: =($J31-$E31)/5+G31 -> 5718.571 | I31: =($J31-$E31)/5+H31 -> 5722.8223 | J31: 5727.0736 | K31: =($O31-$J31)/5+J31 -> 5728.2096 | L31: =($O31-$J31)/5+K31 -> 5729.3456 | M31: =($O31-$J31)/5+L31 -> 5730.4815 | N31: =($O31-$J31)/5+M31 -> 5731.6175 | O31: 5732.7535 | P31: =($T31-$O31)/5+O31 -> 5770.7617 | Q31: =($T31-$O31)/5+P31 -> 5808.7698 | R31: =($T31-$O31)/5+Q31 -> 5846.778 | S31: =($T31-$O31)/5+R31 -> 5884.7862 | T31: 5922.7944 | U31: =($Y31-$T31)/5+T31 -> 5959.5684 | V31: =($Y31-$T31)/5+U31 -> 5996.3423 | W31: =($Y31-$T31)/5+V31 -> 6033.1163 | X31: =($Y31-$T31)/5+W31 -> 6069.8903 | Y31: 6106.6643 | AE31: =ROW() -> 31
B32: S02 - Moranbah | C32: 13597.956 | D32: =(E32-C32)/2+C32 -> 13907.648 | E32: 14217.34 | F32: =($J32-$E32)/5+E32 -> 14394.449 | G32: =($J32-$E32)/5+F32 -> 14571.557 | H32: =($J32-$E32)/5+G32 -> 14748.665 | I32: =($J32-$E32)/5+H32 -> 14925.774 | J32: 15102.882 | K32: =($O32-$J32)/5+J32 -> 15307.571 | L32: =($O32-$J32)/5+K32 -> 15512.26 | M32: =($O32-$J32)/5+L32 -> 15716.948 | N32: =($O32-$J32)/5+M32 -> 15921.637 | O32: 16126.326 | P32: =($T32-$O32)/5+O32 -> 16260.868 | Q32: =($T32-$O32)/5+P32 -> 16395.409 | R32: =($T32-$O32)/5+Q32 -> 16529.951 | S32: =($T32-$O32)/5+R32 -> 16664.492 | T32: 16799.034 | U32: =($Y32-$T32)/5+T32 -> 16926.16 | V32: =($Y32-$T32)/5+U32 -> 17053.286 | W32: =($Y32-$T32)/5+V32 -> 17180.412 | X32: =($Y32-$T32)/5+W32 -> 17307.538 | Y32: 17434.664 | AE32: =ROW() -> 32
B33: S03 - Dysart | C33: 7024.4571 | D33: =(E33-C33)/2+C33 -> 7058.3237 | E33: 7092.1903 | F33: =($J33-$E33)/5+E33 -> 7100.4614 | G33: =($J33-$E33)/5+F33 -> 7108.7325 | H33: =($J33-$E33)/5+G33 -> 7117.0036 | I33: =($J33-$E33)/5+H33 -> 7125.2746 | J33: 7133.5457 | K33: =($O33-$J33)/5+J33 -> 7141.7751 | L33: =($O33-$J33)/5+K33 -> 7150.0046 | M33: =($O33-$J33)/5+L33 -> 7158.234 | N33: =($O33-$J33)/5+M33 -> 7166.4634 | O33: 7174.6928 | P33: =($T33-$O33)/5+O33 -> 7178.5564 | Q33: =($T33-$O33)/5+P33 -> 7182.42 | R33: =($T33-$O33)/5+Q33 -> 7186.2836 | S33: =($T33-$O33)/5+R33 -> 7190.1472 | T33: 7194.0108 | U33: =($Y33-$T33)/5+T33 -> 7197.7649 | V33: =($Y33-$T33)/5+U33 -> 7201.519 | W33: =($Y33-$T33)/5+V33 -> 7205.2731 | X33: =($Y33-$T33)/5+W33 -> 7209.0272 | Y33: 7212.7813 | AE33: =ROW() -> 33
B34: S04 - Middlemount | C34: 4733.4301 | D34: =(E34-C34)/2+C34 -> 4749.2335 | E34: 4765.0369 | F34: =($J34-$E34)/5+E34 -> 4768.7871 | G34: =($J34-$E34)/5+F34 -> 4772.5374 | H34: =($J34-$E34)/5+G34 -> 4776.2877 | I34: =($J34-$E34)/5+H34 -> 4780.0379 | J34: 4783.7882 | K34: =($O34-$J34)/5+J34 -> 4787.314 | L34: =($O34-$J34)/5+K34 -> 4790.8397 | M34: =($O34-$J34)/5+L34 -> 4794.3655 | N34: =($O34-$J34)/5+M34 -> 4797.8913 | O34: 4801.417 | P34: =($T34-$O34)/5+O34 -> 4804.8392 | Q34: =($T34-$O34)/5+P34 -> 4808.2613 | R34: =($T34-$O34)/5+Q34 -> 4811.6835 | S34: =($T34-$O34)/5+R34 -> 4815.1056 | T34: 4818.5278 | U34: =($Y34-$T34)/5+T34 -> 4821.8512 | V34: =($Y34-$T34)/5+U34 -> 4825.1746 | W34: =($Y34-$T34)/5+V34 -> 4828.498 | X34: =($Y34-$T34)/5+W34 -> 4831.8214 | Y34: 4835.1448 | AE34: =ROW() -> 34
B35: S05 - Glenden | C35: 1631.9988 | D35: =(E35-C35)/2+C35 -> 1642.8686 | E35: 1653.7384 | F35: =($J35-$E35)/5+E35 -> 1658.7283 | G35: =($J35-$E35)/5+F35 -> 1663.7181 | H35: =($J35-$E35)/5+G35 -> 1668.708 | I35: =($J35-$E35)/5+H35 -> 1673.6978 | J35: 1678.6877 | K35: =($O35-$J35)/5+J35 -> 1685.9646 | L35: =($O35-$J35)/5+K35 -> 1693.2415 | M35: =($O35-$J35)/5+L35 -> 1700.5184 | N35: =($O35-$J35)/5+M35 -> 1707.7954 | O35: 1715.0723 | P35: =($T35-$O35)/5+O35 -> 1721.7249 | Q35: =($T35-$O35)/5+P35 -> 1728.3775 | R35: =($T35-$O35)/5+Q35 -> 1735.0301 | S35: =($T35-$O35)/5+R35 -> 1741.6827 | T35: 1748.3353 | U35: =($Y35-$T35)/5+T35 -> 1754.8812 | V35: =($Y35-$T35)/5+U35 -> 1761.4272 | W35: =($Y35-$T35)/5+V35 -> 1767.9732 | X35: =($Y35-$T35)/5+W35 -> 1774.5191 | Y35: 1781.0651 | AE35: =ROW() -> 35
B36: S06 - Nebo | C36: 1078.6323 | D36: =(E36-C36)/2+C36 -> 1120.5643 | E36: 1162.4962 | F36: =($J36-$E36)/5+E36 -> 1189.5711 | G36: =($J36-$E36)/5+F36 -> 1216.6459 | H36: =($J36-$E36)/5+G36 -> 1243.7208 | I36: =($J36-$E36)/5+H36 -> 1270.7956 | J36: 1297.8704 | K36: =($O36-$J36)/5+J36 -> 1329.6408 | L36: =($O36-$J36)/5+K36 -> 1361.4112 | M36: =($O36-$J36)/5+L36 -> 1393.1815 | N36: =($O36-$J36)/5+M36 -> 1424.9519 | O36: 1456.7223 | P36: =($T36-$O36)/5+O36 -> 1458.1782 | Q36: =($T36-$O36)/5+P36 -> 1459.634 | R36: =($T36-$O36)/5+Q36 -> 1461.0899 | S36: =($T36-$O36)/5+R36 -> 1462.5458 | T36: 1464.0017 | U36: =($Y36-$T36)/5+T36 -> 1465.3849 | V36: =($Y36-$T36)/5+U36 -> 1466.7681 | W36: =($Y36-$T36)/5+V36 -> 1468.1513 | X36: =($Y36-$T36)/5+W36 -> 1469.5345 | Y36: 1470.9177 | AE36: =ROW() -> 36
AE37: =ROW() -> 37
AE38: =ROW() -> 38
B39: =NETWORK_2 -> Sewerage | C39: Catchment Demand (Incremental Growth) | AE39: =ROW() -> 39
B40: Catchment Name | C40: =BASE_YEAR -> 2024 | D40: =C40+1 -> 2025 | E40: =D40+1 -> 2026 | F40: =E40+1 -> 2027 | G40: =F40+1 -> 2028 | H40: =G40+1 -> 2029 | I40: =H40+1 -> 2030 | J40: =I40+1 -> 2031 | K40: =J40+1 -> 2032 | ... Y40: =X40+1 -> 2046 | Z40: Total Demand (Ultimate) | AA40: NPV Future Demand (@ Ultimate) | AB40: NPV Future Demand (@Planning Horizon) | AE40: =ROW() -> 40
...

Sheet Summary Cost Schedule
B1: =COUNCIL_NAME -> Isaac Regional Council | H1: Return to Navigation
B2: =PROJECT_NAME -> Local Government Infrastructure Plan
B4: ="Charge Summary for "&NETWORK_1&" Network" -> Charge Summary for Water Supply Network
B5: Catchment Name | C5: ="Demand ("&UOM_1&")" -> Demand (EP) | F5: Cost of Trunk Infrastructure | I5: ="Cost per Unit Demand ("&UOM_1&")" -> Cost per Unit Demand (EP)
C6: Existing (A) | D6: NPV Future (B) | E6: TOTAL (A)+ (B) | F6: Existing (C) | G6: NPV Future (D) | H6: TOTAL (C)+ (D)
B7: =N1_C1 -> WS01 - Clermont | C7: =Demands!C18 -> 5948.2537 | D7: =Demands!AB18 -> 157.19514 | E7: =IFERROR(C7+D7,"") -> 6105.4489 | F7: ='Water Supply - Existing'!$AP$779 -> 24782883 | G7: ='Water Supply - Future'!$AR$23 -> 881704.56 | H7: =F7+G7 -> 25664588 | I7: =IFERROR(H7/E7,"") -> 4203.5546
B8: =N1_C2 -> WS02 - Moranbah | C8: =Demands!C19 -> 13597.956 | D8: =Demands!AB19 -> 2552.8975 | E8: =IFERROR(C8+D8,"") -> 16150.854 | F8: ='Water Supply - Existing'!$AQ$779 -> 65682792 | G8: ='Water Supply - Future'!$AS$23 -> 5620792.1 | H8: =F8+G8 -> 71303584 | I8: =IFERROR(H8/E8,"") -> 4414.8492
B9: =N1_C3 -> WS03 - Dysart | C9: =Demands!C20 -> 7024.4571 | D9: =Demands!AB20 -> 143.61904 | E9: =IFERROR(C9+D9,"") -> 7168.0761 | F9: ='Water Supply - Existing'!$AR$779 -> 27142203 | G9: ='Water Supply - Future'!$AT$23 -> 951326.38 | H9: =F9+G9 -> 28093529 | I9: =IFERROR(H9/E9,"") -> 3919.2566
B10: =N1_C4 -> WS04 - Middlemount | C10: =Demands!C21 -> 4733.4301 | D10: =Demands!AB21 -> 70.581287 | E10: =IFERROR(C10+D10,"") -> 4804.0114 | F10: ='Water Supply - Existing'!$AS$779 -> 24279755 | G10: ='Water Supply - Future'!$AU$23 -> 0 | H10: =F10+G10 -> 24279755 | I10: =IFERROR(H10/E10,"") -> 5054.0586
B11: =N1_C5 -> WS05 - Glenden | C11: =Demands!C22 -> 1631.9988 | D11: =Demands!AB22 -> 90.859864 | E11: =IFERROR(C11+D11,"") -> 1722.8586 | F11: ='Water Supply - Existing'!$AT$779 -> 17012235 | G11: ='Water Supply - Future'!$AV$23 -> 0 | H11: =F11+G11 -> 17012235 | I11: =IFERROR(H11/E11,"") -> 9874.4228
B12: =N1_C6 -> WS06 - Nebo | C12: =Demands!C23 -> 1078.6323 | D12: =Demands!AB23 -> 320.2386 | E12: =IFERROR(C12+D12,"") -> 1398.8709 | F12: ='Water Supply - Existing'!$AU$779 -> 10894986 | G12: ='Water Supply - Future'!$AW$23 -> 0 | H12: =F12+G12 -> 10894986 | I12: =IFERROR(H12/E12,"") -> 7788.4142
B13: =N1_C7 -> WS07 - Carmila | C13: =Demands!C24 -> 156.6922 | D13: =Demands!AB24 -> 2.95764 | E13: =IFERROR(C13+D13,"") -> 159.64984 | F13: ='Water Supply - Existing'!$AV$779 -> 1125230.1 | G13: ='Water Supply - Future'!$AX$23 -> 0 | H13: =F13+G13 -> 1125230.1 | I13: =IFERROR(H13/E13,"") -> 7048.1128
B14: =N1_C8 -> WS08 - St Lawrence | C14: =Demands!C25 -> 308.64092 | D14: =Demands!AB25 -> 7.1734132 | E14: =IFERROR(C14+D14,"") -> 315.81434 | F14: ='Water Supply - Existing'!$AW$779 -> 2660343.6 | G14: ='Water Supply - Future'!$AY$23 -> 0 | H14: =F14+G14 -> 2660343.6 | I14: =IFERROR(H14/E14,"") -> 8423.7582
C15: =SUBTOTAL(9,C7:C12) -> 34014.728 | D15: =SUBTOTAL(9,D7:D12) -> 3335.3914 | E15: =SUBTOTAL(9,E7:E12) -> 37350.12 | F15: =SUBTOTAL(9,F7:F14) -> 1.7358043e+08 | G15: =SUBTOTAL(9,G7:G14) -> 7453823 | H15: =SUBTOTAL(9,H7:H14) -> 1.8103425e+08
B19: ="Charge Summary for "&NETWORK_2&" Network" -> Charge Summary for Sewerage Network
B20: Catchment Name | C20: ="Demand ("&UOM_2&")" -> Demand (EP) | F20: Cost of Trunk Infrastructure | I20: ="Cost per Unit Demand ("&UOM_2&")" -> Cost per Unit Demand (EP)
C21: Existing (A) | D21: NPV Future (B) | E21: TOTAL (A)+ (B) | F21: Existing (C) | G21: NPV Future (D) | H21: TOTAL (C)+ (D)
B22: =N2_C1 -> S01 - Clermont | C22: =Demands!C41 -> 5700.297 | D22: =Demands!AB41 -> 150.09722 | E22: =IFERROR(C22+D22,"") -> 5850.3942 | F22: ='Sewerage - Existing'!$AM$663 -> 21420754 | G22: ='Sewerage - Future'!$AN$29 -> 445751.52 | H22: =F22+G22 -> 21866506 | I22: =IFERROR(H22/E22,"") -> 3737.6124
B23: =N2_C2 -> S02 - Moranbah | C23: =Demands!C42 -> 13597.956 | D23: =Demands!AB42 -> 2552.8975 | E23: =IFERROR(C23+D23,"") -> 16150.854 | F23: ='Sewerage - Existing'!$AN$663 -> 51505399 | G23: ='Sewerage - Future'!$AO$29 -> 1685451.9 | H23: =F23+G23 -> 53190851 | I23: =IFERROR(H23/E23,"") -> 3293.377
B24: =N2_C3 -> S03 - Dysart | C24: =Demands!C43 -> 7024.4571 | D24: =Demands!AB43 -> 143.61904 | E24: =IFERROR(C24+D24,"") -> 7168.0761 | F24: ='Sewerage - Existing'!$AO$663 -> 23964779 | G24: ='Sewerage - Future'!$AP$29 -> 951326.38 | H24: =F24+G24 -> 24916105 | I24: =IFERROR(H24/E24,"") -> 3475.9823
B25: =N2_C4 -> S04 - Middlemount | C25: =Demands!C44 -> 4733.4301 | D25: =Demands!AB44 -> 70.581287 | E25: =IFERROR(C25+D25,"") -> 4804.0114 | F25: ='Sewerage - Existing'!$AP$663 -> 20501424 | G25: ='Sewerage - Future'!$AQ$29 -> 1189158 | H25: =F25+G25 -> 21690581 | I25: =IFERROR(H25/E25,"") -> 4515.0979
B26: =N2_C5 -> S05 - Glenden | C26: =Demands!C45 -> 1631.9988 | D26: =Demands!AB45 -> 90.859864 | E26: =IFERROR(C26+D26,"") -> 1722.8586 | F26: ='Sewerage - Existing'!$AQ$663 -> 10979843 | G26: ='Sewerage - Future'!$AR$29 -> 916413.32 | H26: =F26+G26 -> 11896256 | I26: =IFERROR(H26/E26,"") -> 6904.952
B27: =N2_C6 -> S06 - Nebo | C27: =Demands!C46 -> 1078.6323 | D27: =Demands!AB46 -> 320.2386 | E27: =IFERROR(C27+D27,"") -> 1398.8709 | F27: ='Sewerage - Existing'!$AR$663 -> 9073173.3 | G27: ='Sewerage - Future'!$AS$29 -> 1648253.6 | H27: =F27+G27 -> 10721427 | I27: =IFERROR(H27/E27,"") -> 7664.3435
C28: =SUBTOTAL(9,C22:C27) -> 33766.771 | D28: =SUBTOTAL(9,D22:D27) -> 3328.2935 | E28: =SUBTOTAL(9,E22:E27) -> 37095.065 | F28: =SUBTOTAL(9,F22:F27) -> 1.3744537e+08 | G28: =SUBTOTAL(9,G22:G27) -> 6836354.7 | H28: =SUBTOTAL(9,H22:H27) -> 1.4428173e+08
B32: ="Charge Summary for "&NETWORK_3&" Network" -> Charge Summary for Transport Network
B33: Catchment Name | C33: ="Demand ("&UOM_3&")" -> Demand (Trips) | F33: Cost of Trunk Infrastructure | I33: ="Cost per Unit Demand ("&UOM_3&")" -> Cost per Unit Demand (Trips)
C34: Existing (A) | D34: NPV Future (B) | E34: TOTAL (A)+ (B) | F34: Existing (C) | G34: NPV Future (D) | H34: TOTAL (C)+ (D)
B35: =N3_C1 -> TR01 - Clermont | C35: =Demands!C64 -> 16368.107 | D35: =Demands!AB64 -> 741.38463 | E35: =IFERROR(C35+D35,"") -> 17109.492 | F35: ='Transport - Existing'!$AQ$175 -> 33574574 | G35: ='Transport - Future'!$AS$54 -> 9667160.4 | H35: =F35+G35 -> 43241734 | I35: =IFERROR(H35/E35,"") -> 2527.3535
B36: =N3_C2 -> TR02 - Moranbah | C36: =Demands!C65 -> 51486.004 | D36: =Demands!AB65 -> 10226.434 | E36: =IFERROR(C36+D36,"") -> 61712.438 | F36: ='Transport - Existing'!$AR$175 -> 78816397 | G36: ='Transport - Future'!$AT$54 -> 20201263 | H36: =F36+G36 -> 99017659 | I36: =IFERROR(H36/E36,"") -> 1604.5009
B37: =N3_C3 -> TR03 - Dysart | C37: =Demands!C66 -> 24265.886 | D37: =Demands!AB66 -> 858.45091 | E37: =IFERROR(C37+D37,"") -> 25124.337 | F37: ='Transport - Existing'!$AS$175 -> 54774594 | G37: ='Transport - Future'!$AU$54 -> 0 | H37: =F37+G37 -> 54774594 | I37: =IFERROR(H37/E37,"") -> 2180.1409
B38: =N3_C4 -> TR04 - Middlemount | C38: =Demands!C67 -> 17277.537 | D38: =Demands!AB67 -> 433.71982 | E38: =IFERROR(C38+D38,"") -> 17711.256 | F38: ='Transport - Existing'!$AT$175 -> 48931860 | G38: ='Transport - Future'!$AV$54 -> 0 | H38: =F38+G38 -> 48931860 | I38: =IFERROR(H38/E38,"") -> 2762.7549
B39: =N3_C5 -> TR05 - Glenden | C39: =Demands!C68 -> 6226.0492 | D39: =Demands!AB68 -> 381.18942 | E39: =IFERROR(C39+D39,"") -> 6607.2386 | F39: ='Transport - Existing'!$AU$175 -> 45294647 | G39: ='Transport - Future'!$AW$54 -> 0 | H39: =F39+G39 -> 45294647 | I39: =IFERROR(H39/E39,"") -> 6855.3067
B40: =N3_C6 -> TR06 - Nebo | C40: =Demands!C69 -> 3939.181 | D40: =Demands!AB69 -> 1246.965 | E40: =IFERROR(C40+D40,"") -> 5186.146 | F40: ='Transport - Existing'!$AV$175 -> 23855299 | G40: ='Transport - Future'!$AX$54 -> 823754.7 | H40: =F40+G40 -> 24679054 | I40: =IFERROR(H40/E40,"") -> 4758.65
B41: =N3_C7 -> TR07 - St. Lawrence | C41: =Demands!C70 -> 1338.4427 | D41: =Demands!AB70 -> 132.16532 | E41: =IFERROR(C41+D41,"") -> 1470.608 | F41: ='Transport - Existing'!$AW$175 -> 4495260.8 | G41: ='Transport - Future'!$AY$54 -> 0 | H41: =F41+G41 -> 4495260.8 | I41: =IFERROR(H41/E41,"") -> 3056.7362
B42: =N3_C8 -> TR08 - Remainder of LGA | C42: =Demands!C71 -> 76967.747 | D42: =Demands!AB71 -> 12095.484 | E42: =IFERROR(C42+D42,"") -> 89063.231 | F42: ='Transport - Existing'!$AX$175 -> 2.7662351e+08 | G42: ='Transport - Future'!$AZ$54 -> 4776752.1 | H42: =F42+G42 -> 2.8140026e+08 | I42: =IFERROR(H42/E42,"") -> 3159.5559
C43: =SUBTOTAL(9,C35:C42) -> 197868.95 | D43: =SUBTOTAL(9,D35:D42) -> 26115.794 | E43: =SUBTOTAL(9,E35:E42) -> 223984.75 | F43: =SUBTOTAL(9,F35:F42) -> 5.6636614e+08 | G43: =SUBTOTAL(9,G35:G42) -> 35468930 | H43: =SUBTOTAL(9,H35:H42) -> 6.0183507e+08
B47: ="Charge Summary for "&NETWORK_4&" Network" -> Charge Summary for Parks and Land for Community Facilities Network
B48: Catchment Name | C48: ="Demand ("&UOM_4&")" -> Demand (Persons) | F48: Cost of Trunk Infrastructure | I48: ="Cost per Unit Demand ("&UOM_4&")" -> Cost per Unit Demand (Persons)
C49: Existing (A) | D49: NPV Future (B) | E49: TOTAL (A)+ (B) | F49: Existing (C) | G49: NPV Future (D) | H49: TOTAL (C)+ (D)
B50: =N4_C1 -> PPCL01 - Clermont | C50: =Demands!C89 -> 3216.2659 | D50: =Demands!AB89 -> 86.231602 | E50: =IFERROR(C50+D50,"") -> 3302.4975 | F50: ='PPCL - Existing'!$AT$114 -> 6479800.9 | G50: ='PPCL - Future'!$AS$16 -> 136984.12 | H50: =F50+G50 -> 6616785 | I50: =IFERROR(H50/E50,"") -> 2003.57
...

Sheet Unit Rates
B1: =COUNCIL_NAME -> Isaac Regional Council | H1: Return to Navigation
B2: =PROJECT_NAME -> Local Government Infrastructure Plan
B3: Schedule of Works Unit Rates
B5: =NETWORK_1&" Network" -> Water Supply Network | K5: =NETWORK_2&" Network" -> Sewerage Network | T5: =NETWORK_3&" Network" -> Transport Network | AC5: =NETWORK_4&" Network" -> Parks and Land for Community Facilities Network
B7: Scheduled Rate Cost - Works | D7: Code | F7: ="$CRC ("&BASE_YEAR&")" -> $CRC (2024) | H7: Comments/Source | K7: Scheduled Rate Cost - Works | M7: Code | O7: ="$CRC ("&BASE_YEAR&")" -> $CRC (2024) | Q7: Comments/Source | T7: Scheduled Rate Cost - Works | V7: Code | X7: ="$CRC ("&BASE_YEAR&")" -> $CRC (2024) | Z7: Comments/Source | AC7: Scheduled Rate Cost - Works | AE7: Code | AG7: ="$CRC ("&BASE_YEAR&")" -> $CRC (2024) | AI7: Comments/Source
B9: 100mm Unknown Water Main | D9: WM100 | F9: 185.71625 | K9: 0mm Unknown Effluent Main | M9: EM0 | O9: 309.24816 | T9: Urban Sub Arterial | V9: USA | X9: 5180.405 | Z9: per lineal metre | AC9: Land Inside PIA - Moranbah | AE9: MBH | AG9: 49.81
B10: 150mm Unknown Water Main | D10: WM150 | F10: 223.80441 | K10: 80mm Unknown Effluent Main | M10: EM80 | O10: 318.32203 | T10: Urban Major Collector | V10: UMC | X10: 4036.2416 | Z10: per lineal metre | AC10: Land Inside PIA - All other areas | AE10: TOWN | AG10: 31.13
B11: 160mm Unknown Water Main | D11: WM160 | F11: 223.80441 | K11: 100mm uPVC Effluent Main | M11: EMuPVC100 | O11: 304.46804 | T11: Rural Arterial | V11: RA | X11: 1269.4957 | Z11: per lineal metre | AC11: Land Outside PIA | AE11: RURAL | AG11: 12.45
B12: 200mm Unknown Water Main | D12: WM200 | F12: 336.63763 | K12: 110mm OD Effluent Main | M12: EMOD110 | O12: 304.46804 | T12: Rural Sub Arterial | V12: RSA | X12: 1057.9131 | Z12: per lineal metre
B13: 225mm Unknown Water Main | D13: WM225 | F13: 430.41982 | K13: 125mm HDPE Effluent Main | M13: EMHDPE125 | O13: 304.46804 | T13: Rural Major Collector | V13: RMC | X13: 846.33047 | Z13: per lineal metre
B14: 250mm Unknown Water Main | D14: WM250 | F14: 562.29017 | K14: 150mm PVC Effluent Main | M14: EMPVC150 | O14: 304.46804 | T14: Medium Roundabout | V14: MR | X14: 649988.54 | Z14: each
B15: 300mm Unknown Water Main | D15: WM300 | F15: 692.70147 | K15: 150mm PVC Effluent Main | M15: EMPVC150 | O15: 304.46804 | T15: Small Roundabout | V15: SR | X15: 283384.59 | Z15: each
B16: 375mm Unknown Water Main | D16: WM375 | F16: 900.77593 | K16: 150mm uPVC Effluent Main | M16: EMuPVC150 | O16: 304.46804 | T16: Definition Works | V16: DW | X16: 53708.293 | Z16: each
B17: 450mm Unknown Water Main | D17: WM450 | F17: 1163.0715 | K17: 150mm Unknown Effluent Main | M17: EM150 | O17: 309.24816 | T17: Safety Works | V17: SW | X17: 15936.647 | Z17: each
B18: 50mm Unknown Water Main | D18: WM50 | F18: 185.71625 | H18: As per 100mm unit rate (Uknown) | K18: 150mm AC Effluent Main | M18: EMAC150 | O18: 424.48495 | T18: Channelised T-Intersection | V18: CT | X18: 883314.3 | Z18: each
B19: 525mm Unknown Water Main | D19: WM525 | F19: 1407.775 | K19: 200mm AC Effluent Main | M19: EMAC200 | O19: 309.24816 | T19: Channelised 4- Way Intersection | V19: C4 | X19: 1104143.2 | Z19: each
B20: 600mm Unknown Water Main | D20: WM600 | F20: 1631.9685 | K20: 200mm CI Effluent Main | M20: EMCI200 | O20: 309.24816 | T20: Signalised T Intersection | V20: ST | X20: 1084476.8 | Z20: each
B21: 750mm Unknown Water Main | D21: WM750 | F21: 1985.1024 | H21: No rate available - Nominal assumed rate | K21: 200mm HDPE Effluent Main | M21: EMHDPE200 | O21: 309.24816 | T21: Signalised 4-Way Intersection | V21: S4 | X21: 1305305.7 | Z21: each
B22: 150mm AC/FRC Water Main | D22: WMAC/FRC150 | F22: 223.80441 | H22: As per AC unit rate | K22: 200mm Unknown Effluent Main | M22: EM200 | O22: 309.24816 | T22: Bridge Deck Construction | V22: B | X22: 7948.849 | Z22: per m²
B23: 200mm AC/FRC Water Main | D23: WMAC/FRC200 | F23: 336.63763 | H23: As per AC unit rate | K23: 200mm uPVC Effluent Main | M23: EMuPVC200 | O23: 309.24816 | T23: Off Road Pathway | V23: PW | X23: 309.37171 | Z23: per m
B24: 250mm AC/FRC Water Main | D24: WMAC/FRC250 | F24: 562.29017 | H24: As per AC unit rate | K24: 225mm Unknown Effluent Main | M24: EM225 | O24: 383.10365 | T24: Floodway | V24: FW | X24: 175000 | Z24: each
B25: 300mm AC/FRC Water Main | D25: WMAC/FRC300 | F25: 692.70147 | H25: As per AC unit rate | K25: 300mm Unknown Effluent Main | M25: EM300 | O25: 560.03722
B26: 375mm AC/FRC Water Main | D26: WMAC/FRC375 | F26: 900.77593 | H26: As per AC unit rate | K26: 300mm DICL Effluent Main | M26: EMDICL300 | O26: 761.42718
B27: 450mm AC/FRC Water Main | D27: WMAC/FRC450 | F27: 1163.0715 | H27: As per AC unit rate | K27: 300mm HDPE Effluent Main | M27: EMHDPE300 | O27: 761.42718
B28: 525mm AC/FRC Water Main | D28: WMAC/FRC525 | F28: 1407.775 | H28: As per AC unit rate | K28: 300mm Other Effluent Main | M28: EMOther300 | O28: 761.42718
B29: 100mm AC Water Main | D29: WMAC100 | F29: 185.71625 | K29: 300mm uPVC Effluent Main | M29: EMuPVC300 | O29: 761.42718
B30: 150mm AC Water Main | D30: WMAC150 | F30: 223.80441 | K30: 375mm Unknown Effluent Main | M30: EM375 | O30: 560.03722
B31: 200mm AC Water Main | D31: WMAC200 | F31: 336.63763 | K31: 0mm AC Gravity Main | M31: GMAC0 | O31: 424.48495
B32: 225mm AC Water Main | D32: WMAC225 | F32: 430.73942 | K32: 0mm Unknown Gravity Main | M32: GM0 | O32: 424.48495
B33: 250mm AC Water Main | D33: WMAC250 | F33: 562.29017 | K33: 0mm uPVC Gravity Main | M33: GMuPVC0 | O33: 424.48495
B34: 300mm AC Water Main | D34: WMAC300 | F34: 692.70147 | K34: 100mm AC Gravity Main | M34: GMAC100 | O34: 304.46804
B35: 375mm AC Water Main | D35: WMAC375 | F35: 900.77593 | H35: Assumed (as per 'unknown' unit rate) | K35: 100mm uPVC Gravity Main | M35: GMuPVC100 | O35: 304.46804
B36: 450mm AC Water Main | D36: WMAC450 | F36: 1163.0715 | H36: Assumed (as per 'unknown' unit rate) | K36: 100mm Unknown Gravity Main | M36: GM100 | O36: 318.32203
B37: 525mm AC Water Main | D37: WMAC525 | F37: 1407.775 | H37: Assumed (as per 'unknown' unit rate) | K37: 150mm ULTR Gravity Main | M37: GMULTR150 | O37: 318.32203
B38: 750mm AC Water Main | D38: WMAC750 | F38: 1985.1024 | H38: No rate available - Nominal assumed rate | K38: 150mm AC Gravity Main | M38: GMAC150 | O38: 424.48495
B39: 100mm B/PVC Water Main | D39: WMB/PVC100 | F39: 185.71625 | K39: 150mm FRC Gravity Main | M39: GMFRC150 | O39: 424.48495
B40: 100mm CICL Water Main | D40: WMCICL100 | F40: 185.71625 | K40: 150mm PVC Gravity Main | M40: GMPVC150 | O40: 424.48495
B41: 250mm CIUL Water Main | D41: WMCIUL250 | F41: 616.51126 | K41: 150mm RC Gravity Main | M41: GMRC150 | O41: 424.48495
B42: 150mm Ductile Iron Water Main | D42: WMDI150 | F42: 223.80441 | H42: Assumed (as per 'unknown' unit rate) | K42: 150mm Unknown Gravity Main | M42: GM150 | O42: 424.48495
B43: 200mm Ductile Iron Water Main | D43: WMDI200 | F43: 336.63763 | H43: Assumed (as per 'unknown' unit rate) | K43: 150mm uPVC Gravity Main | M43: GMuPVC150 | O43: 424.48495
...

Sheet Water Supply - Existing
B1: =COUNCIL_NAME -> Isaac Regional Council | G1: Return to Navigation
B2: =PROJECT_NAME -> Local Government Infrastructure Plan
B3: ="Existing "&NETWORK_1&" Network" -> Existing Water Supply Network
B6: Asset Description Data | L6: Land Cost Valuation | N6: Base Cost Valuation | R6: Base Estimate Valuation | T6: Total Asset Valuation | W6: Catchment Asset Allocation | AF6: Asset Usage | AP6: Cost Allocation
B7: LGIP ID | C7: IRC Asset# | D7: Asset Type | E7: Description | F7: Material | G7: Diameter (mm) | H7: Land Unit Rate Code | I7: Works Unit Rate Code | J7: Qty Land (m²) | K7: Qty Works Active (ea) Passive (m) | L7: Land Unit Cost | M7: Land Value | N7: Asset Unit Cost | O7: Raw Asset Cost | P7: Cost or Asset Multiplier | Q7: Base Cost | R7: On-Cost Allowance (%) | S7: Base Estimate | T7: Grants / Subsidies (Percentage of Works Base Estimate ) | U7: Total Asset Cost | W7: =N1_C1 -> WS01 - Clermont | X7: =N1_C2 -> WS02 - Moranbah | Y7: =N1_C3 -> WS03 - Dysart | Z7: =N1_C4 -> WS04 - Middlemount | AA7: =N1_C5 -> WS05 - Glenden | AB7: =N1_C6 -> WS06 - Nebo | AC7: =N1_C7 -> WS07 - Carmila | AD7: =N1_C8 -> WS08 - St Lawrence | AF7: =N1_C1 -> WS01 - Clermont | AG7: =N1_C2 -> WS02 - Moranbah | AH7: =N1_C3 -> WS03 - Dysart | AI7: =N1_C4 -> WS04 - Middlemount | AJ7: =N1_C5 -> WS05 - Glenden | AK7: =N1_C6 -> WS06 - Nebo | AL7: =N1_C7 -> WS07 - Carmila | AM7: =N1_C8 -> WS08 - St Lawrence | AN7: TOTAL | AP7: =N1_C1 -> WS01 - Clermont | AQ7: =N1_C2 -> WS02 - Moranbah | AR7: =N1_C3 -> WS03 - Dysart | AS7: =N1_C4 -> WS04 - Middlemount | AT7: =N1_C5 -> WS05 - Glenden | AU7: =N1_C6 -> WS06 - Nebo | AV7: =N1_C7 -> WS07 - Carmila | AW7: =N1_C8 -> WS08 - St Lawrence | AX7: TOTAL
AF8: =IFERROR(Demands!$AB$18+Demands!$C$18,"") -> 6105.4489 | AG8: =IFERROR(Demands!$AB$19+Demands!$C$19,"") -> 16150.854 | AH8: =IFERROR(Demands!$AB$20+Demands!$C$20,"") -> 7168.0761 | AI8: =IFERROR(Demands!$AB$21+Demands!$C$21,"") -> 4804.0114 | AJ8: =IFERROR(Demands!$AB$22+Demands!$C$22,"") -> 1722.8586 | AK8: =IFERROR(Demands!$AB$23+Demands!$C$23,"") -> 1398.8709 | AL8: =IFERROR(Demands!$AB$24+Demands!$C$24,"") -> 159.64984 | AM8: =IFERROR(Demands!$AB$25+Demands!$C$25,"") -> 315.81434 | AN8: =SUM(AF8:AM8) -> 37825.584
AF9: =IF(W9="","",AF$8) | AG9: =IF(X9="","",AG$8) | AH9: =IF(Y9="","",AH$8) | AI9: =IF(Z9="","",AI$8) | AJ9: =IF(AA9="","",AJ$8) | AK9: =IF(AB9="","",AK$8) | AL9: =IF(AC9="","",AL$8) | AM9: =IF(AD9="","",AM$8) | AN9: =SUM(AF9:AM9) -> 0 | AP9: =IF(W9="","",IFERROR(W9*$U9,$U9/$AN9*AF9)) | AQ9: =IF(X9="","",IFERROR(X9*$U9,$U9/$AN9*AG9)) | AR9: =IF(Y9="","",IFERROR(Y9*$U9,$U9/$AN9*AH9)) | AS9: =IF(Z9="","",IFERROR(Z9*$U9,$U9/$AN9*AI9)) | AT9: =IF(AA9="","",IFERROR(AA9*$U9,$U9/$AN9*AJ9)) | AU9: =IF(AB9="","",IFERROR(AB9*$U9,$U9/$AN9*AK9)) | AV9: =IF(AC9="","",IFERROR(AC9*$U9,$U9/$AN9*AL9)) | AW9: =IF(AD9="","",IFERROR(AD9*$U9,$U9/$AN9*AM9)) | AX9: =SUM(AP9:AW9) -> 0
B10: Active Assets | AF10: =IF(W10="","",AF$8) | AG10: =IF(X10="","",AG$8) | AH10: =IF(Y10="","",AH$8) | AI10: =IF(Z10="","",AI$8) | AJ10: =IF(AA10="","",AJ$8) | AK10: =IF(AB10="","",AK$8) | AL10: =IF(AC10="","",AL$8) | AM10: =IF(AD10="","",AM$8) | AN10: =SUM(AF10:AM10) -> 0 | AP10: =IF(W10="","",IFERROR(W10*$U10,$U10/$AN10*AF10)) | AQ10: =IF(X10="","",IFERROR(X10*$U10,$U10/$AN10*AG10)) | AR10: =IF(Y10="","",IFERROR(Y10*$U10,$U10/$AN10*AH10)) | AS10: =IF(Z10="","",IFERROR(Z10*$U10,$U10/$AN10*AI10)) | AT10: =IF(AA10="","",IFERROR(AA10*$U10,$U10/$AN10*AJ10)) | AU10: =IF(AB10="","",IFERROR(AB10*$U10,$U10/$AN10*AK10)) | AV10: =IF(AC10="","",IFERROR(AC10*$U10,$U10/$AN10*AL10)) | AW10: =IF(AD10="","",IFERROR(AD10*$U10,$U10/$AN10*AM10)) | AX10: =SUM(AP10:AW10) -> 0
B11: WSE001 | C11: C0055705 | D11: Bore | E11: Nebo Bore Field #04 | K11: 1 | L11: =IFERROR(VLOOKUP(H11,UR_N1,3,FALSE),"") | M11: =IFERROR(L11*J11,0) -> 0 | N11: =IFERROR(VLOOKUP(I11,UR_N1,3,FALSE),"") | O11: 467540.87 | P11: 1 | Q11: =O11*P11 -> 467540.87 | R11: 0.13 | S11: =Q11*(1+R11) -> 528321.19 | U11: =(S11*(1-T11))+M11 -> 528321.19 | AB11: Y | AF11: =IF(W11="","",AF$8) | AG11: =IF(X11="","",AG$8) | AH11: =IF(Y11="","",AH$8) | AI11: =IF(Z11="","",AI$8) | AJ11: =IF(AA11="","",AJ$8) | AK11: =IF(AB11="","",AK$8) -> 1398.8709 | AL11: =IF(AC11="","",AL$8) | AM11: =IF(AD11="","",AM$8) | AN11: =SUM(AF11:AM11) -> 1398.8709 | AP11: =IF(W11="","",IFERROR(W11*$U11,$U11/$AN11*AF11)) | AQ11: =IF(X11="","",IFERROR(X11*$U11,$U11/$AN11*AG11)) | AR11: =IF(Y11="","",IFERROR(Y11*$U11,$U11/$AN11*AH11)) | AS11: =IF(Z11="","",IFERROR(Z11*$U11,$U11/$AN11*AI11)) | AT11: =IF(AA11="","",IFERROR(AA11*$U11,$U11/$AN11*AJ11)) | AU11: =IF(AB11="","",IFERROR(AB11*$U11,$U11/$AN11*AK11)) -> 528321.19 | AV11: =IF(AC11="","",IFERROR(AC11*$U11,$U11/$AN11*AL11)) | AW11: =IF(AD11="","",IFERROR(AD11*$U11,$U11/$AN11*AM11)) | AX11: =SUM(AP11:AW11) -> 528321.19
B12: WSE002 | C12: C0055680 | D12: Bore | E12: Nebo Bore Field #03 | K12: 1 | L12: =IFERROR(VLOOKUP(H12,UR_N1,3,FALSE),"") | M12: =IFERROR(L12*J12,0) -> 0 | N12: =IFERROR(VLOOKUP(I12,UR_N1,3,FALSE),"") | O12: 478803.78 | P12: 1 | Q12: =O12*P12 -> 478803.78 | R12: 0.13 | S12: =Q12*(1+R12) -> 541048.28 | U12: =(S12*(1-T12))+M12 -> 541048.28 | AB12: Y | AF12: =IF(W12="","",AF$8) | AG12: =IF(X12="","",AG$8) | AH12: =IF(Y12="","",AH$8) | AI12: =IF(Z12="","",AI$8) | AJ12: =IF(AA12="","",AJ$8) | AK12: =IF(AB12="","",AK$8) -> 1398.8709 | AL12: =IF(AC12="","",AL$8) | AM12: =IF(AD12="","",AM$8) | AN12: =SUM(AF12:AM12) -> 1398.8709 | AP12: =IF(W12="","",IFERROR(W12*$U12,$U12/$AN12*AF12)) | AQ12: =IF(X12="","",IFERROR(X12*$U12,$U12/$AN12*AG12)) | AR12: =IF(Y12="","",IFERROR(Y12*$U12,$U12/$AN12*AH12)) | AS12: =IF(Z12="","",IFERROR(Z12*$U12,$U12/$AN12*AI12)) | AT12: =IF(AA12="","",IFERROR(AA12*$U12,$U12/$AN12*AJ12)) | AU12: =IF(AB12="","",IFERROR(AB12*$U12,$U12/$AN12*AK12)) -> 541048.28 | AV12: =IF(AC12="","",IFERROR(AC12*$U12,$U12/$AN12*AL12)) | AW12: =IF(AD12="","",IFERROR(AD12*$U12,$U12/$AN12*AM12)) | AX12: =SUM(AP12:AW12) -> 541048.28
B13: WSE003 | C13: C0055652 | D13: Bore | E13: Nebo Bore Field #02 | K13: 1 | L13: =IFERROR(VLOOKUP(H13,UR_N1,3,FALSE),"") | M13: =IFERROR(L13*J13,0) -> 0 | N13: =IFERROR(VLOOKUP(I13,UR_N1,3,FALSE),"") | O13: 415467.66 | P13: 1 | Q13: =O13*P13 -> 415467.66 | R13: 0.13 | S13: =Q13*(1+R13) -> 469478.46 | U13: =(S13*(1-T13))+M13 -> 469478.46 | AB13: Y | AF13: =IF(W13="","",AF$8) | AG13: =IF(X13="","",AG$8) | AH13: =IF(Y13="","",AH$8) | AI13: =IF(Z13="","",AI$8) | AJ13: =IF(AA13="","",AJ$8) | AK13: =IF(AB13="","",AK$8) -> 1398.8709 | AL13: =IF(AC13="","",AL$8) | AM13: =IF(AD13="","",AM$8) | AN13: =SUM(AF13:AM13) -> 1398.8709 | AP13: =IF(W13="","",IFERROR(W13*$U13,$U13/$AN13*AF13)) | AQ13: =IF(X13="","",IFERROR(X13*$U13,$U13/$AN13*AG13)) | AR13: =IF(Y13="","",IFERROR(Y13*$U13,$U13/$AN13*AH13)) | AS13: =IF(Z13="","",IFERROR(Z13*$U13,$U13/$AN13*AI13)) | AT13: =IF(AA13="","",IFERROR(AA13*$U13,$U13/$AN13*AJ13)) | AU13: =IF(AB13="","",IFERROR(AB13*$U13,$U13/$AN13*AK13)) -> 469478.46 | AV13: =IF(AC13="","",IFERROR(AC13*$U13,$U13/$AN13*AL13)) | AW13: =IF(AD13="","",IFERROR(AD13*$U13,$U13/$AN13*AM13)) | AX13: =SUM(AP13:AW13) -> 469478.46
B14: WSE006 | C14: C0055729 | D14: Bore | E14: Nebo Bore Field #05 | K14: 1 | L14: =IFERROR(VLOOKUP(H14,UR_N1,3,FALSE),"") | M14: =IFERROR(L14*J14,0) -> 0 | N14: =IFERROR(VLOOKUP(I14,UR_N1,3,FALSE),"") | O14: 180537.97 | P14: 1 | Q14: =O14*P14 -> 180537.97 | R14: 0.13 | S14: =Q14*(1+R14) -> 204007.9 | U14: =(S14*(1-T14))+M14 -> 204007.9 | AB14: Y | AF14: =IF(W14="","",AF$8) | AG14: =IF(X14="","",AG$8) | AH14: =IF(Y14="","",AH$8) | AI14: =IF(Z14="","",AI$8) | AJ14: =IF(AA14="","",AJ$8) | AK14: =IF(AB14="","",AK$8) -> 1398.8709 | AL14: =IF(AC14="","",AL$8) | AM14: =IF(AD14="","",AM$8) | AN14: =SUM(AF14:AM14) -> 1398.8709 | AP14: =IF(W14="","",IFERROR(W14*$U14,$U14/$AN14*AF14)) | AQ14: =IF(X14="","",IFERROR(X14*$U14,$U14/$AN14*AG14)) | AR14: =IF(Y14="","",IFERROR(Y14*$U14,$U14/$AN14*AH14)) | AS14: =IF(Z14="","",IFERROR(Z14*$U14,$U14/$AN14*AI14)) | AT14: =IF(AA14="","",IFERROR(AA14*$U14,$U14/$AN14*AJ14)) | AU14: =IF(AB14="","",IFERROR(AB14*$U14,$U14/$AN14*AK14)) -> 204007.9 | AV14: =IF(AC14="","",IFERROR(AC14*$U14,$U14/$AN14*AL14)) | AW14: =IF(AD14="","",IFERROR(AD14*$U14,$U14/$AN14*AM14)) | AX14: =SUM(AP14:AW14) -> 204007.9
B15: WSE008 | C15: C0048614 | D15: Reservoir | E15: Nebo Reservoir | K15: 1 | L15: =IFERROR(VLOOKUP(H15,UR_N1,3,FALSE),"") | M15: =IFERROR(L15*J15,0) -> 0 | N15: =IFERROR(VLOOKUP(I15,UR_N1,3,FALSE),"") | O15: 1494724.5 | P15: 1 | Q15: =O15*P15 -> 1494724.5 | R15: 0.13 | S15: =Q15*(1+R15) -> 1689038.7 | U15: =(S15*(1-T15))+M15 -> 1689038.7 | AB15: Y | AF15: =IF(W15="","",AF$8) | AG15: =IF(X15="","",AG$8) | AH15: =IF(Y15="","",AH$8) | AI15: =IF(Z15="","",AI$8) | AJ15: =IF(AA15="","",AJ$8) | AK15: =IF(AB15="","",AK$8) -> 1398.8709 | AL15: =IF(AC15="","",AL$8) | AM15: =IF(AD15="","",AM$8) | AN15: =SUM(AF15:AM15) -> 1398.8709 | AP15: =IF(W15="","",IFERROR(W15*$U15,$U15/$AN15*AF15)) | AQ15: =IF(X15="","",IFERROR(X15*$U15,$U15/$AN15*AG15)) | AR15: =IF(Y15="","",IFERROR(Y15*$U15,$U15/$AN15*AH15)) | AS15: =IF(Z15="","",IFERROR(Z15*$U15,$U15/$AN15*AI15)) | AT15: =IF(AA15="","",IFERROR(AA15*$U15,$U15/$AN15*AJ15)) | AU15: =IF(AB15="","",IFERROR(AB15*$U15,$U15/$AN15*AK15)) -> 1689038.7 | AV15: =IF(AC15="","",IFERROR(AC15*$U15,$U15/$AN15*AL15)) | AW15: =IF(AD15="","",IFERROR(AD15*$U15,$U15/$AN15*AM15)) | AX15: =SUM(AP15:AW15) -> 1689038.7
B16: WSE009 | C16: C0051943, C0055788 | D16: Reservoir | E16: Clermont Reservoir | K16: 1 | L16: =IFERROR(VLOOKUP(H16,UR_N1,3,FALSE),"") | M16: =IFERROR(L16*J16,0) -> 0 | N16: =IFERROR(VLOOKUP(I16,UR_N1,3,FALSE),"") | O16: 4154712.6 | P16: 1 | Q16: =O16*P16 -> 4154712.6 | R16: 0.13 | S16: =Q16*(1+R16) -> 4694825.3 | U16: =(S16*(1-T16))+M16 -> 4694825.3 | W16: Y | AF16: =IF(W16="","",AF$8) -> 6105.4489 | AG16: =IF(X16="","",AG$8) | AH16: =IF(Y16="","",AH$8) | AI16: =IF(Z16="","",AI$8) | AJ16: =IF(AA16="","",AJ$8) | AK16: =IF(AB16="","",AK$8) | AL16: =IF(AC16="","",AL$8) | AM16: =IF(AD16="","",AM$8) | AN16: =SUM(AF16:AM16) -> 6105.4489 | AP16: =IF(W16="","",IFERROR(W16*$U16,$U16/$AN16*AF16)) -> 4694825.3 | AQ16: =IF(X16="","",IFERROR(X16*$U16,$U16/$AN16*AG16)) | AR16: =IF(Y16="","",IFERROR(Y16*$U16,$U16/$AN16*AH16)) | AS16: =IF(Z16="","",IFERROR(Z16*$U16,$U16/$AN16*AI16)) | AT16: =IF(AA16="","",IFERROR(AA16*$U16,$U16/$AN16*AJ16)) | AU16: =IF(AB16="","",IFERROR(AB16*$U16,$U16/$AN16*AK16)) | AV16: =IF(AC16="","",IFERROR(AC16*$U16,$U16/$AN16*AL16)) | AW16: =IF(AD16="","",IFERROR(AD16*$U16,$U16/$AN16*AM16)) | AX16: =SUM(AP16:AW16) -> 4694825.3
B17: WSE010 | C17: C0048557 | D17: Reservoir | E17: Dysart Reservoir | K17: 1 | L17: =IFERROR(VLOOKUP(H17,UR_N1,3,FALSE),"") | M17: =IFERROR(L17*J17,0) -> 0 | N17: =IFERROR(VLOOKUP(I17,UR_N1,3,FALSE),"") | O17: 2846600.9 | P17: 1 | Q17: =O17*P17 -> 2846600.9 | R17: 0.13 | S17: =Q17*(1+R17) -> 3216659 | U17: =(S17*(1-T17))+M17 -> 3216659 | Y17: Y | AF17: =IF(W17="","",AF$8) | AG17: =IF(X17="","",AG$8) | AH17: =IF(Y17="","",AH$8) -> 7168.0761 | AI17: =IF(Z17="","",AI$8) | AJ17: =IF(AA17="","",AJ$8) | AK17: =IF(AB17="","",AK$8) | AL17: =IF(AC17="","",AL$8) | AM17: =IF(AD17="","",AM$8) | AN17: =SUM(AF17:AM17) -> 7168.0761 | AP17: =IF(W17="","",IFERROR(W17*$U17,$U17/$AN17*AF17)) | AQ17: =IF(X17="","",IFERROR(X17*$U17,$U17/$AN17*AG17)) | AR17: =IF(Y17="","",IFERROR(Y17*$U17,$U17/$AN17*AH17)) -> 3216659 | AS17: =IF(Z17="","",IFERROR(Z17*$U17,$U17/$AN17*AI17)) | AT17: =IF(AA17="","",IFERROR(AA17*$U17,$U17/$AN17*AJ17)) | AU17: =IF(AB17="","",IFERROR(AB17*$U17,$U17/$AN17*AK17)) | AV17: =IF(AC17="","",IFERROR(AC17*$U17,$U17/$AN17*AL17)) | AW17: =IF(AD17="","",IFERROR(AD17*$U17,$U17/$AN17*AM17)) | AX17: =SUM(AP17:AW17) -> 3216659
B18: WSE011 | C18: C0056366 | D18: Reservoir | E18: Middlemount Reservoir | K18: 1 | L18: =IFERROR(VLOOKUP(H18,UR_N1,3,FALSE),"") | M18: =IFERROR(L18*J18,0) -> 0 | N18: =IFERROR(VLOOKUP(I18,UR_N1,3,FALSE),"") | O18: 3374452 | P18: 1 | Q18: =O18*P18 -> 3374452 | R18: 0.13 | S18: =Q18*(1+R18) -> 3813130.8 | U18: =(S18*(1-T18))+M18 -> 3813130.8 | Z18: Y | AF18: =IF(W18="","",AF$8) | AG18: =IF(X18="","",AG$8) | AH18: =IF(Y18="","",AH$8) | AI18: =IF(Z18="","",AI$8) -> 4804.0114 | AJ18: =IF(AA18="","",AJ$8) | AK18: =IF(AB18="","",AK$8) | AL18: =IF(AC18="","",AL$8) | AM18: =IF(AD18="","",AM$8) | AN18: =SUM(AF18:AM18) -> 4804.0114 | AP18: =IF(W18="","",IFERROR(W18*$U18,$U18/$AN18*AF18)) | AQ18: =IF(X18="","",IFERROR(X18*$U18,$U18/$AN18*AG18)) | AR18: =IF(Y18="","",IFERROR(Y18*$U18,$U18/$AN18*AH18)) | AS18: =IF(Z18="","",IFERROR(Z18*$U18,$U18/$AN18*AI18)) -> 3813130.8 | AT18: =IF(AA18="","",IFERROR(AA18*$U18,$U18/$AN18*AJ18)) | AU18: =IF(AB18="","",IFERROR(AB18*$U18,$U18/$AN18*AK18)) | AV18: =IF(AC18="","",IFERROR(AC18*$U18,$U18/$AN18*AL18)) | AW18: =IF(AD18="","",IFERROR(AD18*$U18,$U18/$AN18*AM18)) | AX18: =SUM(AP18:AW18) -> 3813130.8
B19: WSE012 | C19: C0048557 | D19: Reservoir | E19: Dysart Reservoir | K19: 1 | L19: =IFERROR(VLOOKUP(H19,UR_N1,3,FALSE),"") | M19: =IFERROR(L19*J19,0) -> 0 | N19: =IFERROR(VLOOKUP(I19,UR_N1,3,FALSE),"") | O19: 1986205 | P19: 1 | Q19: =O19*P19 -> 1986205 | R19: 0.13 | S19: =Q19*(1+R19) -> 2244411.7 | U19: =(S19*(1-T19))+M19 -> 2244411.7 | Y19: Y | AF19: =IF(W19="","",AF$8) | AG19: =IF(X19="","",AG$8) | AH19: =IF(Y19="","",AH$8) -> 7168.0761 | AI19: =IF(Z19="","",AI$8) | AJ19: =IF(AA19="","",AJ$8) | AK19: =IF(AB19="","",AK$8) | AL19: =IF(AC19="","",AL$8) | AM19: =IF(AD19="","",AM$8) | AN19: =SUM(AF19:AM19) -> 7168.0761 | AP19: =IF(W19="","",IFERROR(W19*$U19,$U19/$AN19*AF19)) | AQ19: =IF(X19="","",IFERROR(X19*$U19,$U19/$AN19*AG19)) | AR19: =IF(Y19="","",IFERROR(Y19*$U19,$U19/$AN19*AH19)) -> 2244411.7 | AS19: =IF(Z19="","",IFERROR(Z19*$U19,$U19/$AN19*AI19)) | AT19: =IF(AA19="","",IFERROR(AA19*$U19,$U19/$AN19*AJ19)) | AU19: =IF(AB19="","",IFERROR(AB19*$U19,$U19/$AN19*AK19)) | AV19: =IF(AC19="","",IFERROR(AC19*$U19,$U19/$AN19*AL19)) | AW19: =IF(AD19="","",IFERROR(AD19*$U19,$U19/$AN19*AM19)) | AX19: =SUM(AP19:AW19) -> 2244411.7
B20: WSE014 | C20: #N/A | D20: Reservoir | E20: Moranbah Elevated Reservoir | K20: 1 | L20: =IFERROR(VLOOKUP(H20,UR_N1,3,FALSE),"") | M20: =IFERROR(L20*J20,0) -> 0 | N20: =IFERROR(VLOOKUP(I20,UR_N1,3,FALSE),"") | O20: 5697371.8 | P20: 1 | Q20: =O20*P20 -> 5697371.8 | R20: 0.13 | S20: =Q20*(1+R20) -> 6438030.2 | U20: =(S20*(1-T20))+M20 -> 6438030.2 | X20: Y | AF20: =IF(W20="","",AF$8) | AG20: =IF(X20="","",AG$8) -> 16150.854 | AH20: =IF(Y20="","",AH$8) | AI20: =IF(Z20="","",AI$8) | AJ20: =IF(AA20="","",AJ$8) | AK20: =IF(AB20="","",AK$8) | AL20: =IF(AC20="","",AL$8) | AM20: =IF(AD20="","",AM$8) | AN20: =SUM(AF20:AM20) -> 16150.854 | AP20: =IF(W20="","",IFERROR(W20*$U20,$U20/$AN20*AF20)) | AQ20: =IF(X20="","",IFERROR(X20*$U20,$U20/$AN20*AG20)) -> 6438030.2 | AR20: =IF(Y20="","",IFERROR(Y20*$U20,$U20/$AN20*AH20)) | AS20: =IF(Z20="","",IFERROR(Z20*$U20,$U20/$AN20*AI20)) | AT20: =IF(AA20="","",IFERROR(AA20*$U20,$U20/$AN20*AJ20)) | AU20: =IF(AB20="","",IFERROR(AB20*$U20,$U20/$AN20*AK20)) | AV20: =IF(AC20="","",IFERROR(AC20*$U20,$U20/$AN20*AL20)) | AW20: =IF(AD20="","",IFERROR(AD20*$U20,$U20/$AN20*AM20)) | AX20: =SUM(AP20:AW20) -> 6438030.2
B21: WSE015 | C21: C0047841 | D21: Water Treatment Plant | E21: Clermont WTP | K21: 1 | L21: =IFERROR(VLOOKUP(H21,UR_N1,3,FALSE),"") | M21: =IFERROR(L21*J21,0) -> 0 | N21: =IFERROR(VLOOKUP(I21,UR_N1,3,FALSE),"") | O21: 22133312 | P21: 1 | Q21: =O21*P21 -> 22133312 | R21: 0.13 | S21: =Q21*(1+R21) -> 25010643 | T21: 0.45 | U21: =(S21*(1-T21))+M21 -> 13755854 | W21: Y | AF21: =IF(W21="","",AF$8) -> 6105.4489 | AG21: =IF(X21="","",AG$8) | AH21: =IF(Y21="","",AH$8) | AI21: =IF(Z21="","",AI$8) | AJ21: =IF(AA21="","",AJ$8) | AK21: =IF(AB21="","",AK$8) | AL21: =IF(AC21="","",AL$8) | AM21: =IF(AD21="","",AM$8) | AN21: =SUM(AF21:AM21) -> 6105.4489 | AP21: =IF(W21="","",IFERROR(W21*$U21,$U21/$AN21*AF21)) -> 13755854 | AQ21: =IF(X21="","",IFERROR(X21*$U21,$U21/$AN21*AG21)) | AR21: =IF(Y21="","",IFERROR(Y21*$U21,$U21/$AN21*AH21)) | AS21: =IF(Z21="","",IFERROR(Z21*$U21,$U21/$AN21*AI21)) | AT21: =IF(AA21="","",IFERROR(AA21*$U21,$U21/$AN21*AJ21)) | AU21: =IF(AB21="","",IFERROR(AB21*$U21,$U21/$AN21*AK21)) | AV21: =IF(AC21="","",IFERROR(AC21*$U21,$U21/$AN21*AL21)) | AW21: =IF(AD21="","",IFERROR(AD21*$U21,$U21/$AN21*AM21)) | AX21: =SUM(AP21:AW21) -> 13755854
B22: WSE016 | C22: C0046658 | D22: Water Treatment Plant | E22: Moranbah WTP | K22: 1 | L22: =IFERROR(VLOOKUP(H22,UR_N1,3,FALSE),"") | M22: =IFERROR(L22*J22,0) -> 0 | N22: =IFERROR(VLOOKUP(I22,UR_N1,3,FALSE),"") | O22: 34137730 | P22: 1 | Q22: =O22*P22 -> 34137730 | R22: 0.13 | S22: =Q22*(1+R22) -> 38575635 | U22: =(S22*(1-T22))+M22 -> 38575635 | X22: Y | AF22: =IF(W22="","",AF$8) | AG22: =IF(X22="","",AG$8) -> 16150.854 | AH22: =IF(Y22="","",AH$8) | AI22: =IF(Z22="","",AI$8) | AJ22: =IF(AA22="","",AJ$8) | AK22: =IF(AB22="","",AK$8) | AL22: =IF(AC22="","",AL$8) | AM22: =IF(AD22="","",AM$8) | AN22: =SUM(AF22:AM22) -> 16150.854 | AP22: =IF(W22="","",IFERROR(W22*$U22,$U22/$AN22*AF22)) | AQ22: =IF(X22="","",IFERROR(X22*$U22,$U22/$AN22*AG22)) -> 38575635 | AR22: =IF(Y22="","",IFERROR(Y22*$U22,$U22/$AN22*AH22)) | AS22: =IF(Z22="","",IFERROR(Z22*$U22,$U22/$AN22*AI22)) | AT22: =IF(AA22="","",IFERROR(AA22*$U22,$U22/$AN22*AJ22)) | AU22: =IF(AB22="","",IFERROR(AB22*$U22,$U22/$AN22*AK22)) | AV22: =IF(AC22="","",IFERROR(AC22*$U22,$U22/$AN22*AL22)) | AW22: =IF(AD22="","",IFERROR(AD22*$U22,$U22/$AN22*AM22)) | AX22: =SUM(AP22:AW22) -> 38575635
